Workbook

Sheet PLANNING
B1: PLANNING DE FORMATION
A5: Agent Escale Commerciale / Agent de Passage et check-in
A7: DU 27 FEVRIER AU 24 MARS 2023
A8: VERSION 1 du 26 Février 2023
B10: SEMAINE 1 | G10: SEMAINE 2
A11: 44984 | B11: Procédures AEC 09h - 17h | D11: AIRBUS | F11: 44991 | G11: Proc. AEC 09h - 12h30 | H11: 11.2.6.2 13h30-17h | I11: AIRBUS
A12: 44985 | B12: Procédures AEC 09h - 17h | F12: 44992 | G12: Procédures AEC 09h - 17h
A13: 44986 | B13: SECU 09h-12h30 | C13: Proc. AEC 13h30-17h | F13: 44993 | G13: Proc. AEC 09h-12h30 | H13: FH 13h30-17h
A14: 44987 | B14: Procédures AEC 09h - 17h | F14: 44994 | G14: Procédures AEC 09h - 17h
A15: 44988 | B15: Proc. AEC 09h-12h30 | C15: QCM 1/3 13h30-17h | F15: 44995 | G15: Proc. AEC 09h - 12h30 | H15: QCM 2/3 13h30-17h
B17: SEMAINE 3 | G17: SEMAINE 4
A18: 44998 | B18: Altea CM 09h-17h | D18: AIRBUS | F18: 45005 | G18: Procédures AEC 09h - 17h | I18: AIRBUS
A19: 44999 | B19: Altea CM 09h-17h | F19: 45006 | G19: Procédures AEC 09h - 17h
A20: 45000 | B20: Altea CM 09h-17h | F20: 45007 | G20: Test Blanc 09h-12h30 | H20: DGR09 13h30-17h
A21: 45001 | B21: Altea CM 09h-12h30 | C21: Examen Altea 13h30-17h | F21: 45008 | G21: Corr. Test 09h-12h30 | H21: QCM Bonus 13h30-17h
A22: 45002 | B22: 11.2.3.8 09h-12h30 | C22: QCM 3/3 13h30-17h | F22: 45009 | G22: Révisions 09h-12h30 | H22: Examen AEC 13h-17h
B24: SEMAINE 5 | F24: LEGENDES
A25: 45012 | B25: OFF | D25: BOEING | F25: SECU | G25: Sécurité en Piste
A26: 45013 | F26: 11.2.6.2 | G26: Sensibilisation Badge Aéroportuaire
A27: 45014 | F27: 11.2.3.8 | G27: Sûreté Aéroportuaire Vérif Pax/Bag
A28: 45015 | F28: 11.2.3.9 | G28: Sûreté Aéroportuaire Fret Identifiable
A29: 45016 | F29: DGR | G29: Marchandises Dangereuses IATA
F30: FH | G30: Facteurs Humains / Gestion des Conflits
B31: Présentiel | F31: QCM | G31: Système de Révision Informatique
B32: E-Learning | F32: ALTEA | G32: ALTEA FM ou CM
B33: Distance | F33: B | G33: SALLE BOEING
B34: Présentiel et E-Learning | F34: A | G34: SALLE AIRBUS
B35: Vigilance
B36: Visio
A38: AUCUN RETARD NE SERA TOLERE
A40: En cas d'échec aux tests ou absence aux modules 11.2.6.2 -11.2.3.8 - 11.2.3.9 - ALTEA - SECU - FACTEURS HUMAINS - DGR, une représentation est possible à la charge du stagiaire.
A42: Ce planning peut être soumis à modifications.
A45: PHT FORMATION - 90 Rue de l'industrie, ZAE Luneland 34400 Lunel (France)
A46: Tel : 04 99 53 87 92

Sheet PRÉSENCE
B1: FEUILLE EMARGEMENT / PRESENCE
B3: PHT FORMATION - 90 Rue de l'industrie, ZAE Luneland 34400 Lunel
B4: SIRET: 79264686100049 - Tél: 04 99 53 87 92
A5: =PLANNING!A5 -> Agent Escale Commerciale / Agent de Passage et check-in
A7: =PLANNING!A7 -> DU 27 FEVRIER AU 24 MARS 2023
A8: NOM | B8: PRENOM | C8: =PLANNING!A11 -> 44984 | E8: =PLANNING!A12 -> 44985 | G8: =PLANNING!A13 -> 44986 | I8: =PLANNING!A14 -> 44987 | K8: =PLANNING!A15 -> 44988
C9: 9H00-12H30 | D9: 13H30-17H00 | E9: 9H00-12H30 | F9: 13H30-17H00 | G9: 9H00-12H30 | H9: 13H30-17H00 | I9: 9H00-12H30 | J9: 13H30-17H00 | K9: 9H00-12H30 | L9: 13H30-17H00
C10: Entrée | D10: Sortie | E10: Entrée | F10: Sortie | G10: Entrée | H10: Sortie | I10: Entrée | J10: Sortie | K10: Entrée | L10: Sortie
A11: FORMATEUR
A12: Mr PHONTHISENE | B12: Eric
A13: STAGIAIRES
A14: MME BELAFDIL | B14: SANA
A15: MME CHEDMAIL | B15: LYLIA
A16: MME HADDAD | B16: SÉLIA
A17: MME YAJID | B17: LAMIAE
A18: MME BELBACHIR | B18: ANISSA
A19: MME PHONTHISENE | B19: TIFFANY
A20: MME BOUCHETIT | B20: AMIRA
B22: FEUILLE EMARGEMENT / PRESENCE
B24: PHT FORMATION - 90 Rue de l'industrie, ZAE Luneland 34400 Lunel
B25: SIRET: 79264686100049 - Tél: 04 99 53 87 92
A26: =PLANNING!A5 -> Agent Escale Commerciale / Agent de Passage et check-in
A28: =PLANNING!A7 -> DU 27 FEVRIER AU 24 MARS 2023
A29: NOM | B29: PRENOM | C29: =PLANNING!F11 -> 44991 | E29: =PLANNING!F12 -> 44992 | G29: =PLANNING!F13 -> 44993 | I29: =PLANNING!F14 -> 44994 | K29: =PLANNING!F15 -> 44995
C30: 9H00-12H30 | D30: 13H30-17H00 | E30: 9H00-12H30 | F30: 13H30-17H00 | G30: 9H00-12H30 | H30: 13H30-17H00 | I30: 9H00-12H30 | J30: 13H30-17H00 | K30: 9H00-12H30 | L30: 13H30-17H00
C31: Entrée | D31: Sortie | E31: Entrée | F31: Sortie | G31: Entrée | H31: Sortie | I31: Entrée | J31: Sortie | K31: Entrée | L31: Sortie
A32: FORMATEUR
A33: Mr PHONTHISENE | B33: Eric
A34: STAGIAIRES
A35: MME BELAFDIL | B35: SANA
A36: MME CHEDMAIL | B36: LYLIA
A37: MME HADDAD | B37: SÉLIA
A38: MME YAJID | B38: LAMIAE
A39: MME BELBACHIR | B39: ANISSA
A40: MME PHONTHISENE | B40: TIFFANY
A41: MME BOUCHETIT | B41: AMIRA
B43: FEUILLE EMARGEMENT / PRESENCE
B45: PHT FORMATION - 90 Rue de l'industrie, ZAE Luneland 34400 Lunel
B46: SIRET: 79264686100049 - Tél: 04 99 53 87 92
A47: =PLANNING!A5 -> Agent Escale Commerciale / Agent de Passage et check-in
A49: =PLANNING!A7 -> DU 27 FEVRIER AU 24 MARS 2023
A50: NOM | B50: PRENOM | C50: =PLANNING!A18 -> 44998 | E50: =PLANNING!A19 -> 44999 | G50: =PLANNING!A20 -> 45000 | I50: =PLANNING!A21 -> 45001 | K50: =PLANNING!A22 -> 45002
C51: 9H00-12H30 | D51: 13H30-17H00 | E51: 9H00-12H30 | F51: 13H30-17H00 | G51: 9H00-12H30 | H51: 13H30-17H00 | I51: 9H00-12H30 | J51: 13H30-17H00 | K51: 9H00-12H30 | L51: 13H30-17H00
C52: Entrée | D52: Sortie | E52: Entrée | F52: Sortie | G52: Entrée | H52: Sortie | I52: Entrée | J52: Sortie | K52: Entrée | L52: Sortie
A53: FORMATEUR
A54: Mr PHONTHISENE | B54: Eric
A55: STAGIAIRES
A56: MME BELAFDIL | B56: SANA
A57: MME CHEDMAIL | B57: LYLIA
A58: MME HADDAD | B58: SÉLIA
A59: MME YAJID | B59: LAMIAE
A60: MME BELBACHIR | B60: ANISSA
A61: MME PHONTHISENE | B61: TIFFANY
A62: MME BOUCHETIT | B62: AMIRA
B64: FEUILLE EMARGEMENT / PRESENCE
B66: PHT FORMATION - 90 Rue de l'industrie, ZAE Luneland 34400 Lunel
B67: SIRET: 79264686100049 - Tél: 04 99 53 87 92
A68: =PLANNING!A5 -> Agent Escale Commerciale / Agent de Passage et check-in
A70: =PLANNING!A7 -> DU 27 FEVRIER AU 24 MARS 2023
A71: NOM | B71: PRENOM | C71: =PLANNING!F18 -> 45005 | E71: =PLANNING!F19 -> 45006 | G71: =PLANNING!F20 -> 45007 | I71: =PLANNING!F21 -> 45008 | K71: =PLANNING!F22 -> 45009
C72: 9H00-12H30 | D72: 13H30-17H00 | E72: 9H00-12H30 | F72: 13H30-17H00 | G72: 9H00-12H30 | H72: 13H30-17H00 | I72: 9H00-12H30 | J72: 13H30-17H00 | K72: 9H00-12H30 | L72: 13H30-17H00
C73: Entrée | D73: Sortie | E73: Entrée | F73: Sortie | G73: Entrée | H73: Sortie | I73: Entrée | J73: Sortie | K73: Entrée | L73: Sortie
A74: FORMATEUR
A75: Mr PHONTHISENE | B75: Eric
A76: STAGIAIRES
A77: MME BELAFDIL | B77: SANA
A78: MME CHEDMAIL | B78: LYLIA
A79: MME HADDAD | B79: SÉLIA
A80: MME YAJID | B80: LAMIAE
A81: MME BELBACHIR | B81: ANISSA
A82: MME PHONTHISENE | B82: TIFFANY
A83: MME BOUCHETIT | B83: AMIRA
B85: FEUILLE EMARGEMENT / PRESENCE
B87: PHT FORMATION - 90 Rue de l'industrie, ZAE Luneland 34400 Lunel
B88: SIRET: 79264686100049 - Tél: 04 99 53 87 92
A89: =PLANNING!A5 -> Agent Escale Commerciale / Agent de Passage et check-in
A91: =PLANNING!A7 -> DU 27 FEVRIER AU 24 MARS 2023
A92: NOM | B92: PRENOM | C92: =PLANNING!A25 -> 45012 | E92: =PLANNING!A26 -> 45013 | G92: =PLANNING!A27 -> 45014 | I92: =PLANNING!A28 -> 45015 | K92: =PLANNING!A29 -> 45016
C93: 9H00-12H30 | D93: 13H30-17H00 | E93: 9H00-12H30 | F93: 13H30-17H00 | G93: 9H00-12H30 | H93: 13H30-17H00 | I93: 9H00-12H30 | J93: 13H30-17H00 | K93: 9H00-12H30 | L93: 13H30-17H00
C94: Entrée | D94: Sortie | E94: Entrée | F94: Sortie | G94: Entrée | H94: Sortie | I94: Entrée | J94: Sortie | K94: Entrée | L94: Sortie
A95: FORMATEUR | C95: OFF | E95: OFF | G95: OFF | I95: OFF | K95: OFF
A96: Mr PHONTHISENE | B96: Eric
A97: STAGIAIRES
A98: MME BELAFDIL | B98: SANA
A99: MME CHEDMAIL | B99: LYLIA
A100: MME HADDAD | B100: SÉLIA
A101: MME YAJID | B101: LAMIAE
A102: MME BELBACHIR | B102: ANISSA
A103: MME PHONTHISENE | B103: TIFFANY
A104: MME BOUCHETIT | B104: AMIRA

Sheet Feuil3
